{"text_format":"1","workbook":"xlsx","n_sheets":3,"sheets":["Cover","Agenda","Data"],"not_rendered":{"charts":0,"images":0,"macros":1,"external_links":0,"defined_names":0,"comments":0,"pivot_tables":0},"unopened":[],"bounds":{"document_bytes":16777216,"sheet_cells":100000,"rows_first":2000,"rows_last":500,"rows_between":2000,"halvings":0,"cell_chars":16384,"cell_head_chars":4096},"cells_cut":0,"cells_raw":0,"read":"whole","date_system":"1900"}

{"sheet":"Cover","index":0,"n_rows":18,"n_cols":34,"rows_kept":18,"cut":false,"hidden":false,"merged":[]}
[]
[]
[null,null,1,{"$f":"C3+1","v":2},3,4,5,6,7,8,9,10,11,12,13,14,15,16,17,18,19,20,21,22,23,24,25,26,27,28,29,30,31,32]
[]
[]
[]
[]
[]
[]
[]
[]
[]
[]
[]
[null,null,null,null,"Start Date","2016-04-01"]
[null,null,null,null,"Days of agenda",1]
[null,null,null,null,"Agenda start time","06:00:00"]
[null,null,null,null,"Time Interval",30]

{"sheet":"Agenda","index":1,"n_rows":142,"n_cols":63,"rows_kept":142,"cut":false,"hidden":false,"merged":[[148,61,148,62],[148,49,148,50],[148,51,148,52],[148,53,148,54],[148,55,148,56],[148,57,148,58],[148,59,148,60],[148,37,148,38],[148,39,148,40],[148,41,148,42],[148,43,148,44],[148,45,148,46],[148,47,148,48],[148,25,148,26],[148,27,148,28],[148,29,148,30],[148,31,148,32],[148,33,148,34],[148,35,148,36],[148,13,148,14],[148,15,148,16],[148,17,148,18],[148,19,148,20],[148,21,148,22],[148,23,148,24],[147,55,147,56],[147,57,147,58],[147,59,147,60],[147,61,147,62],[148,1,148,2],[148,3,148,4],[148,5,148,6],[148,7,148,8],[148,9,148,10],[148,11,148,12],[147,43,147,44],[147,45,147,46],[147,47,147,48],[147,49,147,50],[147,51,147,52],[147,53,147,54],[147,31,147,32],[147,33,147,34],[147,35,147,36],[147,37,147,38],[147,39,147,40],[147,41,147,42],[147,19,147,20],[147,21,147,22],[147,23,147,24],[147,25,147,26],[147,27,147,28],[147,29,147,30],[146,61,146,62],[147,1,147,2],[147,3,147,4],[147,5,147,6],[147,7,147,8],[147,9,147,10],[147,11,147,12],[147,13,147,14],[147,15,147,16],[147,17,147,18],[146,49,146,50],[146,51,146,52],[146,53,146,54],[146,55,146,56],[146,57,146,58],[146,59,146,60],[146,37,146,38],[146,39,146,40],[146,41,146,42],[146,43,146,44],[146,45,146,46],[146,47,146,48],[146,25,146,26],[146,27,146,28],[146,29,146,30],[146,31,146,32],[146,33,146,34],[146,35,146,36],[146,13,146,14],[146,15,146,16],[146,17,146,18],[146,19,146,20],[146,21,146,22],[146,23,146,24],[145,55,145,56],[145,57,145,58],[145,59,145,60],[145,61,145,62],[146,1,146,2],[146,3,146,4],[146,5,146,6],[146,7,146,8],[146,9,146,10],[146,11,146,12],[145,43,145,44],[145,45,145,46],[145,47,145,48],[145,49,145,50],[145,51,145,52],[145,53,145,54],[145,31,145,32],[145,33,145,34],[145,35,145,36],[145,37,145,38],[145,39,145,40],[145,41,145,42],[145,19,145,20],[145,21,145,22],[145,23,145,24],[145,25,145,26],[145,27,145,28],[145,29,145,30],[145,1,145,2],[145,3,145,4],[145,5,145,6],[145,7,145,8],[145,9,145,10],[145,11,145,12],[145,13,145,14],[145,15,145,16],[145,17,145,18],[144,49,144,50],[144,51,144,52],[144,53,144,54],[144,55,144,56],[144,57,144,58],[144,59,144,60],[144,37,144,38],[144,39,144,40],[144,41,144,42],[144,43,144,44],[144,45,144,46],[144,47,144,48],[144,25,144,26],[144,27,144,28],[144,29,144,30],[144,31,144,32],[144,33,144,34],[144,35,144,36],[144,13,144,14],[144,15,144,16],[144,17,144,18],[144,19,144,20],[144,21,144,22],[144,23,144,24],[143,55,143,56],[143,57,143,58],[143,59,143,60],[143,61,143,62],[144,1,144,2],[144,3,144,4],[144,5,144,6],[144,7,144,8],[144,9,144,10],[144,11,144,12],[143,43,143,44],[143,45,143,46],[143,47,143,48],[143,49,143,50],[143,51,143,52],[143,53,143,54],[143,31,143,32],[143,33,143,34],[143,35,143,36],[143,37,143,38],[143,39,143,40],[143,41,143,42],[143,19,143,20],[143,21,143,22],[143,23,143,24],[143,25,143,26],[143,27,143,28],[143,29,143,30],[144,61,144,62],[142,61,142,62],[143,1,143,2],[143,3,143,4],[143,5,143,6],[143,7,143,8],[143,9,143,10],[143,11,143,12],[143,13,143,14],[143,15,143,16],[143,17,143,18],[142,49,142,50],[142,51,142,52],[142,53,142,54],[142,55,142,56],[142,57,142,58],[142,59,142,60],[142,37,142,38],[142,39,142,40],[142,41,142,42],[142,43,142,44],[142,45,142,46],[142,47,142,48],[142,25,142,26],[142,27,142,28],[142,29,142,30],[142,31,142,32],[142,33,142,34],[142,35,142,36],[142,13,142,14],[142,15,142,16],[142,17,142,18],[142,19,142,20],[142,21,142,22],[142,23,142,24],[142,1,142,2],[142,3,142,4],[142,5,142,6],[142,7,142,8],[142,9,142,10],[142,11,142,12],[141,51,141,52],[141,53,141,54],[141,55,141,56],[141,57,141,58],[141,59,141,60],[141,61,141,62],[141,39,141,40],[141,41,141,42],[141,43,141,44],[141,45,141,46],[141,47,141,48],[141,49,141,50],[141,27,141,28],[141,29,141,30],[141,31,141,32],[141,33,141,34],[141,35,141,36],[141,37,141,38],[141,15,141,16],[141,17,141,18],[141,19,141,20],[141,21,141,22],[141,23,141,24],[141,25,141,26],[139,61,139,62],[140,61,140,62],[4,0,7,0],[141,1,141,2],[141,3,141,4],[141,5,141,6],[141,7,141,8],[141,9,141,10],[141,11,141,12],[141,13,141,14],[133,61,133,62],[134,61,134,62],[135,61,135,62],[136,61,136,62],[137,61,137,62],[138,61,138,62],[127,61,127,62],[128,61,128,62],[129,61,129,62],[130,61,130,62],[131,61,131,62],[132,61,132,62],[121,61,121,62],[122,61,122,62],[123,61,123,62],[124,61,124,62],[125,61,125,62],[126,61,126,62],[115,61,115,62],[116,61,116,62],[117,61,117,62],[118,61,118,62],[119,61,119,62],[120,61,120,62],[109,61,109,62],[110,61,110,62],[111,61,111,62],[112,61,112,62],[113,61,113,62],[114,61,114,62],[103,61,103,62],[104,61,104,62],[105,61,105,62],[106,61,106,62],[107,61,107,62],[108,61,108,62],[97,61,97,62],[98,61,98,62],[99,61,99,62],[100,61,100,62],[101,61,101,62],[102,61,102,62],[91,61,91,62],[92,61,92,62],[93,61,93,62],[94,61,94,62],[95,61,95,62],[96,61,96,62],[85,61,85,62],[86,61,86,62],[87,61,87,62],[88,61,88,62],[89,61,89,62],[90,61,90,62],[79,61,79,62],[80,61,80,62],[81,61,81,62],[82,61,82,62],[83,61,83,62],[84,61,84,62],[73,61,73,62],[74,61,74,62],[75,61,75,62],[76,61,76,62],[77,61,77,62],[78,61,78,62],[67,61,67,62],[68,61,68,62],[69,61,69,62],[70,61,70,62],[71,61,71,62],[72,61,72,62],[61,61,61,62],[62,61,62,62],[63,61,63,62],[64,61,64,62],[65,61,65,62],[66,61,66,62],[55,61,55,62],[56,61,56,62],[57,61,57,62],[58,61,58,62],[59,61,59,62],[60,61,60,62],[49,61,49,62],[50,61,50,62],[51,61,51,62],[52,61,52,62],[53,61,53,62],[54,61,54,62],[43,61,43,62],[44,61,44,62],[45,61,45,62],[46,61,46,62],[47,61,47,62],[48,61,48,62],[37,61,37,62],[38,61,38,62],[39,61,39,62],[40,61,40,62],[41,61,41,62],[42,61,42,62],[31,61,31,62],[32,61,32,62],[33,61,33,62],[34,61,34,62],[35,61,35,62],[36,61,36,62],[25,61,25,62],[26,61,26,62],[27,61,27,62],[28,61,28,62],[29,61,29,62],[30,61,30,62],[19,61,19,62],[20,61,20,62],[21,61,21,62],[22,61,22,62],[23,61,23,62],[24,61,24,62],[13,61,13,62],[14,61,14,62],[15,61,15,62],[16,61,16,62],[17,61,17,62],[18,61,18,62],[140,59,140,60],[4,61,4,62],[5,61,5,62],[6,61,6,62],[7,61,7,62],[8,61,8,62],[9,61,9,62],[10,61,10,62],[11,61,11,62],[12,61,12,62],[136,59,136,60],[132,59,132,60],[128,59,128,60],[124,59,124,60],[120,59,120,60],[116,59,116,60],[112,59,112,60],[108,59,108,60],[104,59,104,60],[100,59,100,60],[140,47,140,48],[140,49,140,50],[140,51,140,52],[140,53,140,54],[140,55,140,56],[140,57,140,58],[138,59,138,60],[139,47,139,48],[139,49,139,50],[139,51,139,52],[139,53,139,54],[139,55,139,56],[139,57,139,58],[139,59,139,60],[138,47,138,48],[138,49,138,50],[138,51,138,52],[138,53,138,54],[138,55,138,56],[138,57,138,58],[137,47,137,48],[137,49,137,50],[137,51,137,52],[137,53,137,54],[137,55,137,56],[137,57,137,58],[137,59,137,60],[136,47,136,48],[136,49,136,50],[136,51,136,52],[136,53,136,54],[136,55,136,56],[136,57,136,58],[134,59,134,60],[135,47,135,48],[135,49,135,50],[135,51,135,52],[135,53,135,54],[135,55,135,56],[135,57,135,58],[135,59,135,60],[134,47,134,48],[134,49,134,50],[134,51,134,52],[134,53,134,54],[134,55,134,56],[134,57,134,58],[133,47,133,48],[133,49,133,50],[133,51,133,52],[133,53,133,54],[133,55,133,56],[133,57,133,58],[133,59,133,60],[132,47,132,48],[132,49,132,50],[132,51,132,52],[132,53,132,54],[132,55,132,56],[132,57,132,58],[130,59,130,60],[131,47,131,48],[131,49,131,50],[131,51,131,52],[131,53,131,54],[131,55,131,56],[131,57,131,58],[131,59,131,60],[130,47,130,48],[130,49,130,50],[130,51,130,52],[130,53,130,54],[130,55,130,56],[130,57,130,58],[129,47,129,48],[129,49,129,50],[129,51,129,52],[129,53,129,54],[129,55,129,56],[129,57,129,58],[129,59,129,60],[128,47,128,48],[128,49,128,50],[128,51,128,52],[128,53,128,54],[128,55,128,56],[128,57,128,58],[126,59,126,60],[127,47,127,48],[127,49,127,50],[127,51,127,52],[127,53,127,54],[127,55,127,56],[127,57,127,58],[127,59,127,60],[126,47,126,48],[126,49,126,50],[126,51,126,52],[126,53,126,54],[126,55,126,56],[126,57,126,58],[125,47,125,48],[125,49,125,50],[125,51,125,52],[125,53,125,54],[125,55,125,56],[125,57,125,58],[125,59,125,60],[124,47,124,48],[124,49,124,50],[124,51,124,52],[124,53,124,54],[124,55,124,56],[124,57,124,58],[122,59,122,60],[123,47,123,48],[123,49,123,50],[123,51,123,52],[123,53,123,54],[123,55,123,56],[123,57,123,58],[123,59,123,60],[122,47,122,48],[122,49,122,50],[122,51,122,52],[122,53,122,54],[122,55,122,56],[122,57,122,58],[121,47,121,48],[121,49,121,50],[121,51,121,52],[121,53,121,54],[121,55,121,56],[121,57,121,58],[121,59,121,60],[120,47,120,48],[120,49,120,50],[120,51,120,52],[120,53,120,54],[120,55,120,56],[120,57,120,58],[118,59,118,60],[119,47,119,48],[119,49,119,50],[119,51,119,52],[119,53,119,54],[119,55,119,56],[119,57,119,58],[119,59,119,60],[118,47,118,48],[118,49,118,50],[118,51,118,52],[118,53,118,54],[118,55,118,56],[118,57,118,58],[117,47,117,48],[117,49,117,50],[117,51,117,52],[117,53,117,54],[117,55,117,56],[117,57,117,58],[117,59,117,60],[116,47,116,48],[116,49,116,50],[116,51,116,52],[116,53,116,54],[116,55,116,56],[116,57,116,58],[114,59,114,60],[115,47,115,48],[115,49,115,50],[115,51,115,52],[115,53,115,54],[115,55,115,56],[115,57,115,58],[115,59,115,60],[114,47,114,48],[114,49,114,50],[114,51,114,52],[114,53,114,54],[114,55,114,56],[114,57,114,58],[113,47,113,48],[113,49,113,50],[113,51,113,52],[113,53,113,54],[113,55,113,56],[113,57,113,58],[113,59,113,60],[112,47,112,48],[112,49,112,50],[112,51,112,52],[112,53,112,54],[112,55,112,56],[112,57,112,58],[110,59,110,60],[111,47,111,48],[111,49,111,50],[111,51,111,52],[111,53,111,54],[111,55,111,56],[111,57,111,58],[111,59,111,60],[110,47,110,48],[110,49,110,50],[110,51,110,52],[110,53,110,54],[110,55,110,56],[110,57,110,58],[109,47,109,48],[109,49,109,50],[109,51,109,52],[109,53,109,54],[109,55,109,56],[109,57,109,58],[109,59,109,60],[108,47,108,48],[108,49,108,50],[108,51,108,52],[108,53,108,54],[108,55,108,56],[108,57,108,58],[106,59,106,60],[107,47,107,48],[107,49,107,50],[107,51,107,52],[107,53,107,54],[107,55,107,56],[107,57,107,58],[107,59,107,60],[106,47,106,48],[106,49,106,50],[106,51,106,52],[106,53,106,54],[106,55,106,56],[106,57,106,58],[105,47,105,48],[105,49,105,50],[105,51,105,52],[105,53,105,54],[105,55,105,56],[105,57,105,58],[105,59,105,60],[104,47,104,48],[104,49,104,50],[104,51,104,52],[104,53,104,54],[104,55,104,56],[104,57,104,58],[102,59,102,60],[103,47,103,48],[103,49,103,50],[103,51,103,52],[103,53,103,54],[103,55,103,56],[103,57,103,58],[103,59,103,60],[102,47,102,48],[102,49,102,50],[102,51,102,52],[102,53,102,54],[102,55,102,56],[102,57,102,58],[101,47,101,48],[101,49,101,50],[101,51,101,52],[101,53,101,54],[101,55,101,56],[101,57,101,58],[101,59,101,60],[100,47,100,48],[100,49,100,50],[100,51,100,52],[100,53,100,54],[100,55,100,56],[100,57,100,58],[98,59,98,60],[99,47,99,48],[99,49,99,50],[99,51,99,52],[99,53,99,54],[99,55,99,56],[99,57,99,58],[99,59,99,60],[98,47,98,48],[98,49,98,50],[98,51,98,52],[98,53,98,54],[98,55,98,56],[98,57,98,58],[96,59,96,60],[97,47,97,48],[97,49,97,50],[97,51,97,52],[97,53,97,54],[97,55,97,56],[97,57,97,58],[97,59,97,60],[96,47,96,48],[96,49,96,50],[96,51,96,52],[96,53,96,54],[96,55,96,56],[96,57,96,58],[94,59,94,60],[95,47,95,48],[95,49,95,50],[95,51,95,52],[95,53,95,54],[95,55,95,56],[95,57,95,58],[95,59,95,60],[94,47,94,48],[94,49,94,50],[94,51,94,52],[94,53,94,54],[94,55,94,56],[94,57,94,58],[92,59,92,60],[93,47,93,48],[93,49,93,50],[93,51,93,52],[93,53,93,54],[93,55,93,56],[93,57,93,58],[93,59,93,60],[92,47,92,48],[92,49,92,50],[92,51,92,52],[92,53,92,54],[92,55,92,56],[92,57,92,58],[90,59,90,60],[91,47,91,48],[91,49,91,50],[91,51,91,52],[91,53,91,54],[91,55,91,56],[91,57,91,58],[91,59,91,60],[90,47,90,48],[90,49,90,50],[90,51,90,52],[90,53,90,54],[90,55,90,56],[90,57,90,58],[88,59,88,60],[89,47,89,48],[89,49,89,50],[89,51,89,52],[89,53,89,54],[89,55,89,56],[89,57,89,58],[89,59,89,60],[88,47,88,48],[88,49,88,50],[88,51,88,52],[88,53,88,54],[88,55,88,56],[88,57,88,58],[86,59,86,60],[87,47,87,48],[87,49,87,50],[87,51,87,52],[87,53,87,54],[87,55,87,56],[87,57,87,58],[87,59,87,60],[86,47,86,48],[86,49,86,50],[86,51,86,52],[86,53,86,54],[86,55,86,56],[86,57,86,58],[84,59,84,60],[85,47,85,48],[85,49,85,50],[85,51,85,52],[85,53,85,54],[85,55,85,56],[85,57,85,58],[85,59,85,60],[84,47,84,48],[84,49,84,50],[84,51,84,52],[84,53,84,54],[84,55,84,56],[84,57,84,58],[82,59,82,60],[83,47,83,48],[83,49,83,50],[83,51,83,52],[83,53,83,54],[83,55,83,56],[83,57,83,58],[83,59,83,60],[82,47,82,48],[82,49,82,50],[82,51,82,52],[82,53,82,54],[82,55,82,56],[82,57,82,58],[80,59,80,60],[81,47,81,48],[81,49,81,50],[81,51,81,52],[81,53,81,54],[81,55,81,56],[81,57,81,58],[81,59,81,60],[80,47,80,48],[80,49,80,50],[80,51,80,52],[80,53,80,54],[80,55,80,56],[80,57,80,58],[78,59,78,60],[79,47,79,48],[79,49,79,50],[79,51,79,52],[79,53,79,54],[79,55,79,56],[79,57,79,58],[79,59,79,60],[78,47,78,48],[78,49,78,50],[78,51,78,52],[78,53,78,54],[78,55,78,56],[78,57,78,58],[76,59,76,60],[77,47,77,48],[77,49,77,50],[77,51,77,52],[77,53,77,54],[77,55,77,56],[77,57,77,58],[77,59,77,60],[76,47,76,48],[76,49,76,50],[76,51,76,52],[76,53,76,54],[76,55,76,56],[76,57,76,58],[74,59,74,60],[75,47,75,48],[75,49,75,50],[75,51,75,52],[75,53,75,54],[75,55,75,56],[75,57,75,58],[75,59,75,60],[74,47,74,48],[74,49,74,50],[74,51,74,52],[74,53,74,54],[74,55,74,56],[74,57,74,58],[72,59,72,60],[73,47,73,48],[73,49,73,50],[73,51,73,52],[73,53,73,54],[73,55,73,56],[73,57,73,58],[73,59,73,60],[72,47,72,48],[72,49,72,50],[72,51,72,52],[72,53,72,54],[72,55,72,56],[72,57,72,58],[70,59,70,60],[71,47,71,48],[71,49,71,50],[71,51,71,52],[71,53,71,54],[71,55,71,56],[71,57,71,58],[71,59,71,60],[70,47,70,48],[70,49,70,50],[70,51,70,52],[70,53,70,54],[70,55,70,56],[70,57,70,58],[68,59,68,60],[69,47,69,48],[69,49,69,50],[69,51,69,52],[69,53,69,54],[69,55,69,56],[69,57,69,58],[69,59,69,60],[68,47,68,48],[68,49,68,50],[68,51,68,52],[68,53,68,54],[68,55,68,56],[68,57,68,58],[66,59,66,60],[67,47,67,48],[67,49,67,50],[67,51,67,52],[67,53,67,54],[67,55,67,56],[67,57,67,58],[67,59,67,60],[66,47,66,48],[66,49,66,50],[66,51,66,52],[66,53,66,54],[66,55,66,56],[66,57,66,58],[64,59,64,60],[65,47,65,48],[65,49,65,50],[65,51,65,52],[65,53,65,54],[65,55,65,56],[65,57,65,58],[65,59,65,60],[64,47,64,48],[64,49,64,50],[64,51,64,52],[64,53,64,54],[64,55,64,56],[64,57,64,58],[62,59,62,60],[63,47,63,48],[63,49,63,50],[63,51,63,52],[63,53,63,54],[63,55,63,56],[63,57,63,58],[63,59,63,60],[62,47,62,48],[62,49,62,50],[62,51,62,52],[62,53,62,54],[62,55,62,56],[62,57,62,58],[60,59,60,60],[61,47,61,48],[61,49,61,50],[61,51,61,52],[61,53,61,54],[61,55,61,56],[61,57,61,58],[61,59,61,60],[60,47,60,48],[60,49,60,50],[60,51,60,52],[60,53,60,54],[60,55,60,56],[60,57,60,58],[58,59,58,60],[59,47,59,48],[59,49,59,50],[59,51,59,52],[59,53,59,54],[59,55,59,56],[59,57,59,58],[59,59,59,60],[58,47,58,48],[58,49,58,50],[58,51,58,52],[58,53,58,54],[58,55,58,56],[58,57,58,58],[56,59,56,60],[57,47,57,48],[57,49,57,50],[57,51,57,52],[57,53,57,54],[57,55,57,56],[57,57,57,58],[57,59,57,60],[56,47,56,48],[56,49,56,50],[56,51,56,52],[56,53,56,54],[56,55,56,56],[56,57,56,58],[54,59,54,60],[55,47,55,48],[55,49,55,50],[55,51,55,52],[55,53,55,54],[55,55,55,56],[55,57,55,58],[55,59,55,60],[54,47,54,48],[54,49,54,50],[54,51,54,52],[54,53,54,54],[54,55,54,56],[54,57,54,58],[52,59,52,60],[53,47,53,48],[53,49,53,50],[53,51,53,52],[53,53,53,54]],"merged_total":4527,"flags":["merged_cut"]}
[]
[]
["Date",{"$f":"IF(Cover!$F$16 >= Cover!C3,Cover!F15,\"\")","v":"2016-04-01"},null,{"$f":"IF(Cover!$F$16 >= Cover!D3,B3+1,\"\")","v":""},null,{"$f":"IF(Cover!$F$16 >= Cover!E3,D3+1,\"\")","v":""},null,{"$f":"IF(Cover!$F$16 >= Cover!F3,F3+1,\"\")","v":""},null,{"$f":"IF(Cover!$F$16 >= Cover!H3,H3+1,\"\")","v":""},null,{"$f":"IF(Cover!$F$16 >= Cover!H3,J3+1,\"\")","v":""},null,{"$f":"IF(Cover!$F$16 >= Cover!I3,L3+1,\"\")","v":""},null,{"$f":"IF(Cover!$F$16 >= Cover!J3,N3+1,\"\")","v":""},null,{"$f":"IF(Cover!$F$16 >= Cover!K3,P3+1,\"\")","v":""},null,{"$f":"IF(Cover!$F$16 >= Cover!L3,R3+1,\"\")","v":""},null,{"$f":"IF(Cover!$F$16 >= Cover!M3,T3+1,\"\")","v":""},null,{"$f":"IF(Cover!$F$16 >= Cover!N3,V3+1,\"\")","v":""},null,{"$f":"IF(Cover!$F$16 >= Cover!O3,X3+1,\"\")","v":""},null,{"$f":"IF(Cover!$F$16 >= Cover!P3,Z3+1,\"\")","v":""},null,{"$f":"IF(Cover!$F$16 >= Cover!Q3,AB3+1,\"\")","v":""},null,{"$f":"IF(Cover!$F$16 >= Cover!R3,AD3+1,\"\")","v":""},null,{"$f":"IF(Cover!$F$16 >= Cover!S3,AF3+1,\"\")","v":""},null,{"$f":"IF(Cover!$F$16 >= Cover!T3,AH3+1,\"\")","v":""},null,{"$f":"IF(Cover!$F$16 >= Cover!U3,AJ3+1,\"\")","v":""},null,{"$f":"IF(Cover!$F$16 >= Cover!V3,AL3+1,\"\")","v":""},null,{"$f":"IF(Cover!$F$16 >= Cover!W3,AN3+1,\"\")","v":""},null,{"$f":"IF(Cover!$F$16 >= Cover!X3,AP3+1,\"\")","v":""},null,{"$f":"IF(Cover!$F$16 >= Cover!Y3,AR3+1,\"\")","v":""},null,{"$f":"IF(Cover!$F$16 >= Cover!Z3,AT3+1,\"\")","v":""},null,{"$f":"IF(Cover!$F$16 >= Cover!AA3,AV3+1,\"\")","v":""},null,{"$f":"IF(Cover!$F$16 >= Cover!AB3,AX3+1,\"\")","v":""},null,{"$f":"IF(Cover!$F$16 >= Cover!AC3,AZ3+1,\"\")","v":""},null,{"$f":"IF(Cover!$F$16 >= Cover!AD3,BB3+1,\"\")","v":""},null,{"$f":"IF(Cover!$F$16 >= Cover!AE3,BD3+1,\"\")","v":""},null,{"$f":"IF(Cover!$F$16 >= Cover!AF3,BF3+1,\"\")","v":""},null,{"$f":"IF(Cover!$F$16 >= Cover!AG3,BH3+1,\"\")","v":""}]
["Day/Park",{"$f":"IF(Cover!$F$16 >= Cover!C3,\"Day \"&Cover!C3,\"\")","v":"Day 1"},null,{"$f":"IF(Cover!$F$16 >= Cover!D3,\"Day \"&Cover!D3,\"\")","v":""},null,{"$f":"IF(Cover!$F$16 >= Cover!E3,\"Day \"&Cover!E3,\"\")","v":""},null,{"$f":"IF(Cover!$F$16 >= Cover!F3,\"Day \"&Cover!F3,\"\")","v":""},null,{"$f":"IF(Cover!$F$16 >= Cover!H3,\"Day \"&Cover!H3,\"\")","v":""},null,{"$f":"IF(Cover!$F$16 >= Cover!H3,\"Day \"&Cover!H3,\"\")","v":""},null,{"$f":"IF(Cover!$F$16 >= Cover!I3,\"Day \"&Cover!I3,\"\")","v":""},null,{"$f":"IF(Cover!$F$16 >= Cover!J3,\"Day \"&Cover!J3,\"\")","v":""},null,{"$f":"IF(Cover!$F$16 >= Cover!K3,\"Day \"&Cover!K3,\"\")","v":""},null,{"$f":"IF(Cover!$F$16 >= Cover!L3,\"Day \"&Cover!L3,\"\")","v":""},null,{"$f":"IF(Cover!$F$16 >= Cover!M3,\"Day \"&Cover!M3,\"\")","v":""},null,{"$f":"IF(Cover!$F$16 >= Cover!N3,\"Day \"&Cover!N3,\"\")","v":""},null,{"$f":"IF(Cover!$F$16 >= Cover!O3,\"Day \"&Cover!O3,\"\")","v":""},null,{"$f":"IF(Cover!$F$16 >= Cover!P3,\"Day \"&Cover!P3,\"\")","v":""},null,{"$f":"IF(Cover!$F$16 >= Cover!Q3,\"Day \"&Cover!Q3,\"\")","v":""},null,{"$f":"IF(Cover!$F$16 >= Cover!R3,\"Day \"&Cover!R3,\"\")","v":""},null,{"$f":"IF(Cover!$F$16 >= Cover!S3,\"Day \"&Cover!S3,\"\")","v":""},null,{"$f":"IF(Cover!$F$16 >= Cover!T3,\"Day \"&Cover!T3,\"\")","v":""},null,{"$f":"IF(Cover!$F$16 >= Cover!U3,\"Day \"&Cover!U3,\"\")","v":""},null,{"$f":"IF(Cover!$F$16 >= Cover!V3,\"Day \"&Cover!V3,\"\")","v":""},null,{"$f":"IF(Cover!$F$16 >= Cover!W3,\"Day \"&Cover!W3,\"\")","v":""},null,{"$f":"IF(Cover!$F$16 >= Cover!X3,\"Day \"&Cover!X3,\"\")","v":""},null,{"$f":"IF(Cover!$F$16 >= Cover!Y3,\"Day \"&Cover!Y3,\"\")","v":""},null,{"$f":"IF(Cover!$F$16 >= Cover!Z3,\"Day \"&Cover!Z3,\"\")","v":""},null,{"$f":"IF(Cover!$F$16 >= Cover!AA3,\"Day \"&Cover!AA3,\"\")","v":""},null,{"$f":"IF(Cover!$F$16 >= Cover!AB3,\"Day \"&Cover!AB3,\"\")","v":""},null,{"$f":"IF(Cover!$F$16 >= Cover!AC3,\"Day \"&Cover!AC3,\"\")","v":""},null,{"$f":"IF(Cover!$F$16 >= Cover!AD3,\"Day \"&Cover!AD3,\"\")","v":""},null,{"$f":"IF(Cover!$F$16 >= Cover!AE3,\"Day \"&Cover!AE3,\"\")","v":""},null,{"$f":"IF(Cover!$F$16 >= Cover!AF3,\"Day \"&Cover!AF3,\"\")","v":""},null,{"$f":"IF(Cover!$F$16 >= Cover!AG3,\"Day \"&Cover!AG3,\"\")","v":""},{"$f":"IF(Cover!$F$16 >= Cover!AH3,\"Day \"&Cover!AH3,\"\")","v":""}]
["Highlights\nFastPass"]
[]
[]
[]
[{"$f":"Cover!F17","v":"06:00:00"}]
[{"$f":"IF(A9 <> \"\",IF(VALUE(A9+TIME(0,Cover!$F$18,0))<= 1.08333333333333, A9+TIME(0,Cover!$F$18,0),\"\"),\"\")","v":"06:30:00"}]
[{"$f":"IF(A10 <> \"\",IF(VALUE(A10+TIME(0,Cover!$F$18,0))<= 1.08333333333333, A10+TIME(0,Cover!$F$18,0),\"\"),\"\")","v":"07:00:00"}]
[{"$f":"IF(A11 <> \"\",IF(VALUE(A11+TIME(0,Cover!$F$18,0))<= 1.08333333333333, A11+TIME(0,Cover!$F$18,0),\"\"),\"\")","v":"07:30:00"}]
[{"$f":"IF(A12 <> \"\",IF(VALUE(A12+TIME(0,Cover!$F$18,0))<= 1.08333333333333, A12+TIME(0,Cover!$F$18,0),\"\"),\"\")","v":"08:00:00"}]
[{"$f":"IF(A13 <> \"\",IF(VALUE(A13+TIME(0,Cover!$F$18,0))<= 1.08333333333333, A13+TIME(0,Cover!$F$18,0),\"\"),\"\")","v":"08:30:00"}]
[{"$f":"IF(A14 <> \"\",IF(VALUE(A14+TIME(0,Cover!$F$18,0))<= 1.08333333333333, A14+TIME(0,Cover!$F$18,0),\"\"),\"\")","v":"09:00:00"}]
[{"$f":"IF(A15 <> \"\",IF(VALUE(A15+TIME(0,Cover!$F$18,0))<= 1.08333333333333, A15+TIME(0,Cover!$F$18,0),\"\"),\"\")","v":"09:30:00"}]
[{"$f":"IF(A16 <> \"\",IF(VALUE(A16+TIME(0,Cover!$F$18,0))<= 1.08333333333333, A16+TIME(0,Cover!$F$18,0),\"\"),\"\")","v":"10:00:00"}]
[{"$f":"IF(A17 <> \"\",IF(VALUE(A17+TIME(0,Cover!$F$18,0))<= 1.08333333333333, A17+TIME(0,Cover!$F$18,0),\"\"),\"\")","v":"10:30:00"}]
[{"$f":"IF(A18 <> \"\",IF(VALUE(A18+TIME(0,Cover!$F$18,0))<= 1.08333333333333, A18+TIME(0,Cover!$F$18,0),\"\"),\"\")","v":"11:00:00"}]
[{"$f":"IF(A19 <> \"\",IF(VALUE(A19+TIME(0,Cover!$F$18,0))<= 1.08333333333333, A19+TIME(0,Cover!$F$18,0),\"\"),\"\")","v":"11:30:00"}]
[{"$f":"IF(A20 <> \"\",IF(VALUE(A20+TIME(0,Cover!$F$18,0))<= 1.08333333333333, A20+TIME(0,Cover!$F$18,0),\"\"),\"\")","v":"12:00:00"}]
[{"$f":"IF(A21 <> \"\",IF(VALUE(A21+TIME(0,Cover!$F$18,0))<= 1.08333333333333, A21+TIME(0,Cover!$F$18,0),\"\"),\"\")","v":"12:30:00"}]
[{"$f":"IF(A22 <> \"\",IF(VALUE(A22+TIME(0,Cover!$F$18,0))<= 1.08333333333333, A22+TIME(0,Cover!$F$18,0),\"\"),\"\")","v":"13:00:00"}]
[{"$f":"IF(A23 <> \"\",IF(VALUE(A23+TIME(0,Cover!$F$18,0))<= 1.08333333333333, A23+TIME(0,Cover!$F$18,0),\"\"),\"\")","v":"13:30:00"}]
[{"$f":"IF(A24 <> \"\",IF(VALUE(A24+TIME(0,Cover!$F$18,0))<= 1.08333333333333, A24+TIME(0,Cover!$F$18,0),\"\"),\"\")","v":"14:00:00"}]
[{"$f":"IF(A25 <> \"\",IF(VALUE(A25+TIME(0,Cover!$F$18,0))<= 1.08333333333333, A25+TIME(0,Cover!$F$18,0),\"\"),\"\")","v":"14:30:00"}]
[{"$f":"IF(A26 <> \"\",IF(VALUE(A26+TIME(0,Cover!$F$18,0))<= 1.08333333333333, A26+TIME(0,Cover!$F$18,0),\"\"),\"\")","v":"15:00:00"}]
[{"$f":"IF(A27 <> \"\",IF(VALUE(A27+TIME(0,Cover!$F$18,0))<= 1.08333333333333, A27+TIME(0,Cover!$F$18,0),\"\"),\"\")","v":"15:30:00"}]
[{"$f":"IF(A28 <> \"\",IF(VALUE(A28+TIME(0,Cover!$F$18,0))<= 1.08333333333333, A28+TIME(0,Cover!$F$18,0),\"\"),\"\")","v":"16:00:00"}]
[{"$f":"IF(A29 <> \"\",IF(VALUE(A29+TIME(0,Cover!$F$18,0))<= 1.08333333333333, A29+TIME(0,Cover!$F$18,0),\"\"),\"\")","v":"16:30:00"}]
[{"$f":"IF(A30 <> \"\",IF(VALUE(A30+TIME(0,Cover!$F$18,0))<= 1.08333333333333, A30+TIME(0,Cover!$F$18,0),\"\"),\"\")","v":"17:00:00"}]
[{"$f":"IF(A31 <> \"\",IF(VALUE(A31+TIME(0,Cover!$F$18,0))<= 1.08333333333333, A31+TIME(0,Cover!$F$18,0),\"\"),\"\")","v":"17:30:00"}]
[{"$f":"IF(A32 <> \"\",IF(VALUE(A32+TIME(0,Cover!$F$18,0))<= 1.08333333333333, A32+TIME(0,Cover!$F$18,0),\"\"),\"\")","v":"18:00:00"}]
[{"$f":"IF(A33 <> \"\",IF(VALUE(A33+TIME(0,Cover!$F$18,0))<= 1.08333333333333, A33+TIME(0,Cover!$F$18,0),\"\"),\"\")","v":"18:30:00"}]
[{"$f":"IF(A34 <> \"\",IF(VALUE(A34+TIME(0,Cover!$F$18,0))<= 1.08333333333333, A34+TIME(0,Cover!$F$18,0),\"\"),\"\")","v":"19:00:00"}]
[{"$f":"IF(A35 <> \"\",IF(VALUE(A35+TIME(0,Cover!$F$18,0))<= 1.08333333333333, A35+TIME(0,Cover!$F$18,0),\"\"),\"\")","v":"19:30:00"}]
[{"$f":"IF(A36 <> \"\",IF(VALUE(A36+TIME(0,Cover!$F$18,0))<= 1.08333333333333, A36+TIME(0,Cover!$F$18,0),\"\"),\"\")","v":"20:00:00"}]
[{"$f":"IF(A37 <> \"\",IF(VALUE(A37+TIME(0,Cover!$F$18,0))<= 1.08333333333333, A37+TIME(0,Cover!$F$18,0),\"\"),\"\")","v":"20:30:00"}]
[{"$f":"IF(A38 <> \"\",IF(VALUE(A38+TIME(0,Cover!$F$18,0))<= 1.08333333333333, A38+TIME(0,Cover!$F$18,0),\"\"),\"\")","v":"21:00:00"}]
[{"$f":"IF(A39 <> \"\",IF(VALUE(A39+TIME(0,Cover!$F$18,0))<= 1.08333333333333, A39+TIME(0,Cover!$F$18,0),\"\"),\"\")","v":"21:30:00"}]
[{"$f":"IF(A40 <> \"\",IF(VALUE(A40+TIME(0,Cover!$F$18,0))<= 1.08333333333333, A40+TIME(0,Cover!$F$18,0),\"\"),\"\")","v":"22:00:00"}]
[{"$f":"IF(A41 <> \"\",IF(VALUE(A41+TIME(0,Cover!$F$18,0))<= 1.08333333333333, A41+TIME(0,Cover!$F$18,0),\"\"),\"\")","v":"22:30:00"}]
[{"$f":"IF(A42 <> \"\",IF(VALUE(A42+TIME(0,Cover!$F$18,0))<= 1.08333333333333, A42+TIME(0,Cover!$F$18,0),\"\"),\"\")","v":"23:00:00"}]
[{"$f":"IF(A43 <> \"\",IF(VALUE(A43+TIME(0,Cover!$F$18,0))<= 1.08333333333333, A43+TIME(0,Cover!$F$18,0),\"\"),\"\")","v":"23:30:00"}]
[{"$f":"IF(A44 <> \"\",IF(VALUE(A44+TIME(0,Cover!$F$18,0))<= 1.08333333333333, A44+TIME(0,Cover!$F$18,0),\"\"),\"\")","v":1.0000000000000007}]
[{"$f":"IF(A45 <> \"\",IF(VALUE(A45+TIME(0,Cover!$F$18,0))<= 1.08333333333333, A45+TIME(0,Cover!$F$18,0),\"\"),\"\")","v":1.0208333333333339}]
[{"$f":"IF(A46 <> \"\",IF(VALUE(A46+TIME(0,Cover!$F$18,0))<= 1.08333333333333, A46+TIME(0,Cover!$F$18,0),\"\"),\"\")","v":1.0416666666666672}]
[{"$f":"IF(A47 <> \"\",IF(VALUE(A47+TIME(0,Cover!$F$18,0))<= 1.08333333333333, A47+TIME(0,Cover!$F$18,0),\"\"),\"\")","v":1.0625000000000004}]
[{"$f":"IF(A48 <> \"\",IF(VALUE(A48+TIME(0,Cover!$F$18,0))<= 1.08333333333333, A48+TIME(0,Cover!$F$18,0),\"\"),\"\")","v":1.0833333333333337}]
[{"$f":"IF(A49 <> \"\",IF(VALUE(A49+TIME(0,Cover!$F$18,0))<= 1.08333333333333, A49+TIME(0,Cover!$F$18,0),\"\"),\"\")","v":""}]
[{"$f":"IF(A50 <> \"\",IF(VALUE(A50+TIME(0,Cover!$F$18,0))<= 1.08333333333333, A50+TIME(0,Cover!$F$18,0),\"\"),\"\")","v":""}]
[{"$f":"IF(A51 <> \"\",IF(VALUE(A51+TIME(0,Cover!$F$18,0))<= 1.08333333333333, A51+TIME(0,Cover!$F$18,0),\"\"),\"\")","v":""}]
[{"$f":"IF(A52 <> \"\",IF(VALUE(A52+TIME(0,Cover!$F$18,0))<= 1.08333333333333, A52+TIME(0,Cover!$F$18,0),\"\"),\"\")","v":""}]
[{"$f":"IF(A53 <> \"\",IF(VALUE(A53+TIME(0,Cover!$F$18,0))<= 1.08333333333333, A53+TIME(0,Cover!$F$18,0),\"\"),\"\")","v":""}]
[{"$f":"IF(A54 <> \"\",IF(VALUE(A54+TIME(0,Cover!$F$18,0))<= 1.08333333333333, A54+TIME(0,Cover!$F$18,0),\"\"),\"\")","v":""}]
[{"$f":"IF(A55 <> \"\",IF(VALUE(A55+TIME(0,Cover!$F$18,0))<= 1.08333333333333, A55+TIME(0,Cover!$F$18,0),\"\"),\"\")","v":""}]
[{"$f":"IF(A56 <> \"\",IF(VALUE(A56+TIME(0,Cover!$F$18,0))<= 1.08333333333333, A56+TIME(0,Cover!$F$18,0),\"\"),\"\")","v":""}]
[{"$f":"IF(A57 <> \"\",IF(VALUE(A57+TIME(0,Cover!$F$18,0))<= 1.08333333333333, A57+TIME(0,Cover!$F$18,0),\"\"),\"\")","v":""}]
[{"$f":"IF(A58 <> \"\",IF(VALUE(A58+TIME(0,Cover!$F$18,0))<= 1.08333333333333, A58+TIME(0,Cover!$F$18,0),\"\"),\"\")","v":""}]
[{"$f":"IF(A59 <> \"\",IF(VALUE(A59+TIME(0,Cover!$F$18,0))<= 1.08333333333333, A59+TIME(0,Cover!$F$18,0),\"\"),\"\")","v":""}]
[{"$f":"IF(A60 <> \"\",IF(VALUE(A60+TIME(0,Cover!$F$18,0))<= 1.08333333333333, A60+TIME(0,Cover!$F$18,0),\"\"),\"\")","v":""}]
[{"$f":"IF(A61 <> \"\",IF(VALUE(A61+TIME(0,Cover!$F$18,0))<= 1.08333333333333, A61+TIME(0,Cover!$F$18,0),\"\"),\"\")","v":""}]
[{"$f":"IF(A62 <> \"\",IF(VALUE(A62+TIME(0,Cover!$F$18,0))<= 1.08333333333333, A62+TIME(0,Cover!$F$18,0),\"\"),\"\")","v":""}]
[{"$f":"IF(A63 <> \"\",IF(VALUE(A63+TIME(0,Cover!$F$18,0))<= 1.08333333333333, A63+TIME(0,Cover!$F$18,0),\"\"),\"\")","v":""}]
[{"$f":"IF(A64 <> \"\",IF(VALUE(A64+TIME(0,Cover!$F$18,0))<= 1.08333333333333, A64+TIME(0,Cover!$F$18,0),\"\"),\"\")","v":""}]
[{"$f":"IF(A65 <> \"\",IF(VALUE(A65+TIME(0,Cover!$F$18,0))<= 1.08333333333333, A65+TIME(0,Cover!$F$18,0),\"\"),\"\")","v":""}]
[{"$f":"IF(A66 <> \"\",IF(VALUE(A66+TIME(0,Cover!$F$18,0))<= 1.08333333333333, A66+TIME(0,Cover!$F$18,0),\"\"),\"\")","v":""}]
[{"$f":"IF(A67 <> \"\",IF(VALUE(A67+TIME(0,Cover!$F$18,0))<= 1.08333333333333, A67+TIME(0,Cover!$F$18,0),\"\"),\"\")","v":""}]
[{"$f":"IF(A68 <> \"\",IF(VALUE(A68+TIME(0,Cover!$F$18,0))<= 1.08333333333333, A68+TIME(0,Cover!$F$18,0),\"\"),\"\")","v":""}]
[{"$f":"IF(A69 <> \"\",IF(VALUE(A69+TIME(0,Cover!$F$18,0))<= 1.08333333333333, A69+TIME(0,Cover!$F$18,0),\"\"),\"\")","v":""}]
[{"$f":"IF(A70 <> \"\",IF(VALUE(A70+TIME(0,Cover!$F$18,0))<= 1.08333333333333, A70+TIME(0,Cover!$F$18,0),\"\"),\"\")","v":""}]
[{"$f":"IF(A71 <> \"\",IF(VALUE(A71+TIME(0,Cover!$F$18,0))<= 1.08333333333333, A71+TIME(0,Cover!$F$18,0),\"\"),\"\")","v":""}]
[{"$f":"IF(A72 <> \"\",IF(VALUE(A72+TIME(0,Cover!$F$18,0))<= 1.08333333333333, A72+TIME(0,Cover!$F$18,0),\"\"),\"\")","v":""}]
[{"$f":"IF(A73 <> \"\",IF(VALUE(A73+TIME(0,Cover!$F$18,0))<= 1.08333333333333, A73+TIME(0,Cover!$F$18,0),\"\"),\"\")","v":""}]
[{"$f":"IF(A74 <> \"\",IF(VALUE(A74+TIME(0,Cover!$F$18,0))<= 1.08333333333333, A74+TIME(0,Cover!$F$18,0),\"\"),\"\")","v":""}]
[{"$f":"IF(A75 <> \"\",IF(VALUE(A75+TIME(0,Cover!$F$18,0))<= 1.08333333333333, A75+TIME(0,Cover!$F$18,0),\"\"),\"\")","v":""}]
[{"$f":"IF(A76 <> \"\",IF(VALUE(A76+TIME(0,Cover!$F$18,0))<= 1.08333333333333, A76+TIME(0,Cover!$F$18,0),\"\"),\"\")","v":""}]
[{"$f":"IF(A77 <> \"\",IF(VALUE(A77+TIME(0,Cover!$F$18,0))<= 1.08333333333333, A77+TIME(0,Cover!$F$18,0),\"\"),\"\")","v":""}]
[{"$f":"IF(A78 <> \"\",IF(VALUE(A78+TIME(0,Cover!$F$18,0))<= 1.08333333333333, A78+TIME(0,Cover!$F$18,0),\"\"),\"\")","v":""}]
[{"$f":"IF(A79 <> \"\",IF(VALUE(A79+TIME(0,Cover!$F$18,0))<= 1.08333333333333, A79+TIME(0,Cover!$F$18,0),\"\"),\"\")","v":""}]
[{"$f":"IF(A80 <> \"\",IF(VALUE(A80+TIME(0,Cover!$F$18,0))<= 1.08333333333333, A80+TIME(0,Cover!$F$18,0),\"\"),\"\")","v":""}]
[{"$f":"IF(A81 <> \"\",IF(VALUE(A81+TIME(0,Cover!$F$18,0))<= 1.08333333333333, A81+TIME(0,Cover!$F$18,0),\"\"),\"\")","v":""}]
[{"$f":"IF(A82 <> \"\",IF(VALUE(A82+TIME(0,Cover!$F$18,0))<= 1.08333333333333, A82+TIME(0,Cover!$F$18,0),\"\"),\"\")","v":""}]
[{"$f":"IF(A83 <> \"\",IF(VALUE(A83+TIME(0,Cover!$F$18,0))<= 1.08333333333333, A83+TIME(0,Cover!$F$18,0),\"\"),\"\")","v":""}]
[{"$f":"IF(A84 <> \"\",IF(VALUE(A84+TIME(0,Cover!$F$18,0))<= 1.08333333333333, A84+TIME(0,Cover!$F$18,0),\"\"),\"\")","v":""}]
[{"$f":"IF(A85 <> \"\",IF(VALUE(A85+TIME(0,Cover!$F$18,0))<= 1.08333333333333, A85+TIME(0,Cover!$F$18,0),\"\"),\"\")","v":""}]
[{"$f":"IF(A86 <> \"\",IF(VALUE(A86+TIME(0,Cover!$F$18,0))<= 1.08333333333333, A86+TIME(0,Cover!$F$18,0),\"\"),\"\")","v":""}]
[{"$f":"IF(A87 <> \"\",IF(VALUE(A87+TIME(0,Cover!$F$18,0))<= 1.08333333333333, A87+TIME(0,Cover!$F$18,0),\"\"),\"\")","v":""}]
[{"$f":"IF(A88 <> \"\",IF(VALUE(A88+TIME(0,Cover!$F$18,0))<= 1.08333333333333, A88+TIME(0,Cover!$F$18,0),\"\"),\"\")","v":""}]
[{"$f":"IF(A89 <> \"\",IF(VALUE(A89+TIME(0,Cover!$F$18,0))<= 1.08333333333333, A89+TIME(0,Cover!$F$18,0),\"\"),\"\")","v":""}]
[{"$f":"IF(A90 <> \"\",IF(VALUE(A90+TIME(0,Cover!$F$18,0))<= 1.08333333333333, A90+TIME(0,Cover!$F$18,0),\"\"),\"\")","v":""}]
[{"$f":"IF(A91 <> \"\",IF(VALUE(A91+TIME(0,Cover!$F$18,0))<= 1.08333333333333, A91+TIME(0,Cover!$F$18,0),\"\"),\"\")","v":""}]
[{"$f":"IF(A92 <> \"\",IF(VALUE(A92+TIME(0,Cover!$F$18,0))<= 1.08333333333333, A92+TIME(0,Cover!$F$18,0),\"\"),\"\")","v":""}]
[{"$f":"IF(A93 <> \"\",IF(VALUE(A93+TIME(0,Cover!$F$18,0))<= 1.08333333333333, A93+TIME(0,Cover!$F$18,0),\"\"),\"\")","v":""}]
[{"$f":"IF(A94 <> \"\",IF(VALUE(A94+TIME(0,Cover!$F$18,0))<= 1.08333333333333, A94+TIME(0,Cover!$F$18,0),\"\"),\"\")","v":""}]
[{"$f":"IF(A95 <> \"\",IF(VALUE(A95+TIME(0,Cover!$F$18,0))<= 1.08333333333333, A95+TIME(0,Cover!$F$18,0),\"\"),\"\")","v":""}]
[{"$f":"IF(A96 <> \"\",IF(VALUE(A96+TIME(0,Cover!$F$18,0))<= 1.08333333333333, A96+TIME(0,Cover!$F$18,0),\"\"),\"\")","v":""}]
[{"$f":"IF(A97 <> \"\",IF(VALUE(A97+TIME(0,Cover!$F$18,0))<= 1.08333333333333, A97+TIME(0,Cover!$F$18,0),\"\"),\"\")","v":""}]
[{"$f":"IF(A98 <> \"\",IF(VALUE(A98+TIME(0,Cover!$F$18,0))<= 1.08333333333333, A98+TIME(0,Cover!$F$18,0),\"\"),\"\")","v":""}]
[{"$f":"IF(A99 <> \"\",IF(VALUE(A99+TIME(0,Cover!$F$18,0))<= 1.08333333333333, A99+TIME(0,Cover!$F$18,0),\"\"),\"\")","v":""}]
[{"$f":"IF(A100 <> \"\",IF(VALUE(A100+TIME(0,Cover!$F$18,0))<= 1.08333333333333, A100+TIME(0,Cover!$F$18,0),\"\"),\"\")","v":""}]
[{"$f":"IF(A101 <> \"\",IF(VALUE(A101+TIME(0,Cover!$F$18,0))<= 1.08333333333333, A101+TIME(0,Cover!$F$18,0),\"\"),\"\")","v":""}]
[{"$f":"IF(A102 <> \"\",IF(VALUE(A102+TIME(0,Cover!$F$18,0))<= 1.08333333333333, A102+TIME(0,Cover!$F$18,0),\"\"),\"\")","v":""}]
[{"$f":"IF(A103 <> \"\",IF(VALUE(A103+TIME(0,Cover!$F$18,0))<= 1.08333333333333, A103+TIME(0,Cover!$F$18,0),\"\"),\"\")","v":""}]
[{"$f":"IF(A104 <> \"\",IF(VALUE(A104+TIME(0,Cover!$F$18,0))<= 1.08333333333333, A104+TIME(0,Cover!$F$18,0),\"\"),\"\")","v":""}]
[{"$f":"IF(A105 <> \"\",IF(VALUE(A105+TIME(0,Cover!$F$18,0))<= 1.08333333333333, A105+TIME(0,Cover!$F$18,0),\"\"),\"\")","v":""}]
[{"$f":"IF(A106 <> \"\",IF(VALUE(A106+TIME(0,Cover!$F$18,0))<= 1.08333333333333, A106+TIME(0,Cover!$F$18,0),\"\"),\"\")","v":""}]
[{"$f":"IF(A107 <> \"\",IF(VALUE(A107+TIME(0,Cover!$F$18,0))<= 1.08333333333333, A107+TIME(0,Cover!$F$18,0),\"\"),\"\")","v":""}]
[{"$f":"IF(A108 <> \"\",IF(VALUE(A108+TIME(0,Cover!$F$18,0))<= 1.08333333333333, A108+TIME(0,Cover!$F$18,0),\"\"),\"\")","v":""}]
[{"$f":"IF(A109 <> \"\",IF(VALUE(A109+TIME(0,Cover!$F$18,0))<= 1.08333333333333, A109+TIME(0,Cover!$F$18,0),\"\"),\"\")","v":""}]
[{"$f":"IF(A110 <> \"\",IF(VALUE(A110+TIME(0,Cover!$F$18,0))<= 1.08333333333333, A110+TIME(0,Cover!$F$18,0),\"\"),\"\")","v":""}]
[{"$f":"IF(A111 <> \"\",IF(VALUE(A111+TIME(0,Cover!$F$18,0))<= 1.08333333333333, A111+TIME(0,Cover!$F$18,0),\"\"),\"\")","v":""}]
[{"$f":"IF(A112 <> \"\",IF(VALUE(A112+TIME(0,Cover!$F$18,0))<= 1.08333333333333, A112+TIME(0,Cover!$F$18,0),\"\"),\"\")","v":""}]
[{"$f":"IF(A113 <> \"\",IF(VALUE(A113+TIME(0,Cover!$F$18,0))<= 1.08333333333333, A113+TIME(0,Cover!$F$18,0),\"\"),\"\")","v":""}]
[{"$f":"IF(A114 <> \"\",IF(VALUE(A114+TIME(0,Cover!$F$18,0))<= 1.08333333333333, A114+TIME(0,Cover!$F$18,0),\"\"),\"\")","v":""}]
[{"$f":"IF(A115 <> \"\",IF(VALUE(A115+TIME(0,Cover!$F$18,0))<= 1.08333333333333, A115+TIME(0,Cover!$F$18,0),\"\"),\"\")","v":""}]
[{"$f":"IF(A116 <> \"\",IF(VALUE(A116+TIME(0,Cover!$F$18,0))<= 1.08333333333333, A116+TIME(0,Cover!$F$18,0),\"\"),\"\")","v":""}]
[{"$f":"IF(A117 <> \"\",IF(VALUE(A117+TIME(0,Cover!$F$18,0))<= 1.08333333333333, A117+TIME(0,Cover!$F$18,0),\"\"),\"\")","v":""}]
[{"$f":"IF(A118 <> \"\",IF(VALUE(A118+TIME(0,Cover!$F$18,0))<= 1.08333333333333, A118+TIME(0,Cover!$F$18,0),\"\"),\"\")","v":""}]
[{"$f":"IF(A119 <> \"\",IF(VALUE(A119+TIME(0,Cover!$F$18,0))<= 1.08333333333333, A119+TIME(0,Cover!$F$18,0),\"\"),\"\")","v":""}]
[{"$f":"IF(A120 <> \"\",IF(VALUE(A120+TIME(0,Cover!$F$18,0))<= 1.08333333333333, A120+TIME(0,Cover!$F$18,0),\"\"),\"\")","v":""}]
[{"$f":"IF(A121 <> \"\",IF(VALUE(A121+TIME(0,Cover!$F$18,0))<= 1.08333333333333, A121+TIME(0,Cover!$F$18,0),\"\"),\"\")","v":""}]
[{"$f":"IF(A122 <> \"\",IF(VALUE(A122+TIME(0,Cover!$F$18,0))<= 1.08333333333333, A122+TIME(0,Cover!$F$18,0),\"\"),\"\")","v":""}]
[{"$f":"IF(A123 <> \"\",IF(VALUE(A123+TIME(0,Cover!$F$18,0))<= 1.08333333333333, A123+TIME(0,Cover!$F$18,0),\"\"),\"\")","v":""}]
[{"$f":"IF(A124 <> \"\",IF(VALUE(A124+TIME(0,Cover!$F$18,0))<= 1.08333333333333, A124+TIME(0,Cover!$F$18,0),\"\"),\"\")","v":""}]
[{"$f":"IF(A125 <> \"\",IF(VALUE(A125+TIME(0,Cover!$F$18,0))<= 1.08333333333333, A125+TIME(0,Cover!$F$18,0),\"\"),\"\")","v":""}]
[{"$f":"IF(A126 <> \"\",IF(VALUE(A126+TIME(0,Cover!$F$18,0))<= 1.08333333333333, A126+TIME(0,Cover!$F$18,0),\"\"),\"\")","v":""}]
[{"$f":"IF(A127 <> \"\",IF(VALUE(A127+TIME(0,Cover!$F$18,0))<= 1.08333333333333, A127+TIME(0,Cover!$F$18,0),\"\"),\"\")","v":""}]
[{"$f":"IF(A128 <> \"\",IF(VALUE(A128+TIME(0,Cover!$F$18,0))<= 1.08333333333333, A128+TIME(0,Cover!$F$18,0),\"\"),\"\")","v":""}]
[{"$f":"IF(A129 <> \"\",IF(VALUE(A129+TIME(0,Cover!$F$18,0))<= 1.08333333333333, A129+TIME(0,Cover!$F$18,0),\"\"),\"\")","v":""}]
[{"$f":"IF(A130 <> \"\",IF(VALUE(A130+TIME(0,Cover!$F$18,0))<= 1.08333333333333, A130+TIME(0,Cover!$F$18,0),\"\"),\"\")","v":""}]
[{"$f":"IF(A131 <> \"\",IF(VALUE(A131+TIME(0,Cover!$F$18,0))<= 1.08333333333333, A131+TIME(0,Cover!$F$18,0),\"\"),\"\")","v":""}]
[{"$f":"IF(A132 <> \"\",IF(VALUE(A132+TIME(0,Cover!$F$18,0))<= 1.08333333333333, A132+TIME(0,Cover!$F$18,0),\"\"),\"\")","v":""}]
[{"$f":"IF(A133 <> \"\",IF(VALUE(A133+TIME(0,Cover!$F$18,0))<= 1.08333333333333, A133+TIME(0,Cover!$F$18,0),\"\"),\"\")","v":""}]
[{"$f":"IF(A134 <> \"\",IF(VALUE(A134+TIME(0,Cover!$F$18,0))<= 1.08333333333333, A134+TIME(0,Cover!$F$18,0),\"\"),\"\")","v":""}]
[{"$f":"IF(A135 <> \"\",IF(VALUE(A135+TIME(0,Cover!$F$18,0))<= 1.08333333333333, A135+TIME(0,Cover!$F$18,0),\"\"),\"\")","v":""}]
[{"$f":"IF(A136 <> \"\",IF(VALUE(A136+TIME(0,Cover!$F$18,0))<= 1.08333333333333, A136+TIME(0,Cover!$F$18,0),\"\"),\"\")","v":""}]
[{"$f":"IF(A137 <> \"\",IF(VALUE(A137+TIME(0,Cover!$F$18,0))<= 1.08333333333333, A137+TIME(0,Cover!$F$18,0),\"\"),\"\")","v":""}]
[{"$f":"IF(A138 <> \"\",IF(VALUE(A138+TIME(0,Cover!$F$18,0))<= 1.08333333333333, A138+TIME(0,Cover!$F$18,0),\"\"),\"\")","v":""}]
[{"$f":"IF(A139 <> \"\",IF(VALUE(A139+TIME(0,Cover!$F$18,0))<= 1.08333333333333, A139+TIME(0,Cover!$F$18,0),\"\"),\"\")","v":""}]
[{"$f":"IF(A140 <> \"\",IF(VALUE(A140+TIME(0,Cover!$F$18,0))<= 1.08333333333333, A140+TIME(0,Cover!$F$18,0),\"\"),\"\")","v":""}]
[{"$f":"IF(A141 <> \"\",IF(VALUE(A141+TIME(0,Cover!$F$18,0))<= 1.08333333333333, A141+TIME(0,Cover!$F$18,0),\"\"),\"\")","v":""}]

{"sheet":"Data","index":2,"n_rows":49,"n_cols":6,"rows_kept":49,"cut":false,"hidden":true,"merged":[[0,0,0,1]]}
["Parks",null,"Start Time","Interval","Start Date","End Date"]
["MK","Magic Kingdom","03:00:00",10,{"$f":"TODAY() - 31","v":"2016-03-01"},{"$f":"TODAY()+550","v":"2017-10-03"}]
["EC","Epcot Center",{"$f":"C2+TIME(0,30,0)","v":"03:30:00"},15]
["AK","Animal Kingdom",{"$f":"C3+TIME(0,30,0)","v":"04:00:00"},30]
["HS","Hollywood Studios","04:30:00",60]
["US","Universal Studios","05:00:00"]
["SW","Sea World","05:30:00"]
["DS","Disney Springs","06:00:00"]
["OT ","Other","06:30:00"]
["FR","FREE","07:00:00"]
[null,null,"07:30:00"]
[null,null,"08:00:00"]
[null,null,"08:30:00"]
[null,null,"09:00:00"]
[null,null,"09:30:00"]
[null,null,"10:00:00"]
[null,null,"10:30:00"]
[null,null,"11:00:00"]
[null,null,"11:30:00"]
[null,null,"12:00:00"]
[null,null,"12:30:00"]
[null,null,"13:00:00"]
[null,null,"13:30:00"]
[null,null,"14:00:00"]
[null,null,"14:30:00"]
[null,null,"15:00:00"]
[null,null,"15:30:00"]
[null,null,"16:00:00"]
[null,null,"16:30:00"]
[null,null,"17:00:00"]
[null,null,"17:30:00"]
[null,null,"18:00:00"]
[null,null,"18:30:00"]
[null,null,"19:00:00"]
[null,null,"19:30:00"]
[null,null,"20:00:00"]
[null,null,"20:30:00"]
[null,null,"21:00:00"]
[null,null,"21:30:00"]
[null,null,"22:00:00"]
[null,null,"22:30:00"]
[null,null,"23:00:00"]
[null,null,"23:30:00"]
[null,null,1.0000000000000007]
[null,null,1.0208333333333339]
[null,null,1.0416666666666672]
[null,null,1.0625000000000004]
[null,null,1.0833333333333337]
[null,null,1.104166666666667]